BEGIN:VCALENDAR
VERSION:2.0
PRODID:-//Reiki-Fit - Michaela Wedig - ECPv6.15.20//NONSGML v1.0//EN
CALSCALE:GREGORIAN
METHOD:PUBLISH
X-WR-CALNAME:Reiki-Fit - Michaela Wedig
X-ORIGINAL-URL:https://reiki-fit.de
X-WR-CALDESC:Veranstaltungen für Reiki-Fit - Michaela Wedig
REFRESH-INTERVAL;VALUE=DURATION:PT1H
X-Robots-Tag:noindex
X-PUBLISHED-TTL:PT1H
BEGIN:VTIMEZONE
TZID:Europe/Berlin
BEGIN:DAYLIGHT
TZOFFSETFROM:+0100
TZOFFSETTO:+0200
TZNAME:CEST
DTSTART:20250330T010000
END:DAYLIGHT
BEGIN:STANDARD
TZOFFSETFROM:+0200
TZOFFSETTO:+0100
TZNAME:CET
DTSTART:20251026T010000
END:STANDARD
BEGIN:DAYLIGHT
TZOFFSETFROM:+0100
TZOFFSETTO:+0200
TZNAME:CEST
DTSTART:20260329T010000
END:DAYLIGHT
BEGIN:STANDARD
TZOFFSETFROM:+0200
TZOFFSETTO:+0100
TZNAME:CET
DTSTART:20261025T010000
END:STANDARD
BEGIN:DAYLIGHT
TZOFFSETFROM:+0100
TZOFFSETTO:+0200
TZNAME:CEST
DTSTART:20270328T010000
END:DAYLIGHT
BEGIN:STANDARD
TZOFFSETFROM:+0200
TZOFFSETTO:+0100
TZNAME:CET
DTSTART:20271031T010000
END:STANDARD
END:VTIMEZONE
BEGIN:VEVENT
DTSTART;TZID=Europe/Berlin:20260822T100000
DTEND;TZID=Europe/Berlin:20260822T160000
DTSTAMP:20260423T162617
CREATED:20260417T161455Z
LAST-MODIFIED:20260417T163018Z
UID:2881-1787392800-1787414400@reiki-fit.de
SUMMARY:Reiki-Kinderkurs
DESCRIPTION:Reiki-Kinderkurs – Reiki-Grad 1 für Kinder – Seminar\nIch biete für 6- bis 13-Jährige einen kindgerechten 1. Reiki-Grad-Kurs an\, bei dem die Reiki-Eltern selbstverständlich dabei sein dürfen.\nSicherlich weiß Ihr Nachwuchs von Ihnen schon ein paar wichtige Dinge über Reiki. Ich werde versuchen\, ihnen noch etwas mehr darüber zu berichten. Sie werden erfahren\, wie Reiki entdeckt wurde und noch manches mehr. Reiki ist so einfach zu erlernen\, dass sie sicherlich ihren Spaß daran haben werden. Ihre Kleinen erhalten im Kurs alle vier Reiki-Einstimmungen des 1. Reiki-Grades. Ihre Heilkanäle werden also\, wie bei Ihnen\, für den Rest ihres Lebens geöffnet sein. \nDie Kinder bekommen zum Schluss eine Urkunde\, ein Teilnahmezertifikat und Lesematerial\, in welchem sie immer wieder nachschauen oder lesen können\, was sie im Kurs gelernt haben. Dieses von mir zusammengestellte Material ist mit vielen anschaulichen Bildern versehen. Auch ein Reiki-Comic ist dabei.\nDa ich im Kurs fotografiere\, bekommt jeder Kursteilnehmer seine eigenen Fotos in seine Lesemappe.\nDies wird immer eine bleibende Erinnerung für die Kinder sein.\nZudem erhält jedes Kind mein Buch “Reiki-Kindergeschichten” als zusätzliche Kursbeigabe. \nDauer: 5 – 6 Stunden an einem Tag oder zwei Nachmittagen\nSeminargebühr für den Reiki-Kinderkurs: 150\,00 Euro \nWeitere Informationen: Reiki-Kinderkurs\n \nAnmeldung:\nTel.: 07571 14922 oder Handy: 01520 9169319\nE-Mail: michaela.wedig (at) reiki-fit.de\noder über das Anmelde-Formular
URL:https://reiki-fit.de/termine/reiki-kinderkurs/
LOCATION:Energetische Heilpraxis Reiki-Fit\, Lerchenweg 2\, Inzigkofen-Vilsingen\, Baden-Württemberg\, 72514\, Deutschland
CATEGORIES:Termine Reiki-Kinderkurs,Veranstaltungen Energetische Heilpraxis Reiki-Fit
ATTACH;FMTTYPE=image/jpeg:https://reiki-fit.de/wp-content/uploads/2026/04/Reiki-Kinderkurs-Energetische-Heilpraxis-Reiki-Fit.jpg
ORGANIZER;CN="Michaela Wedig":MAILTO:michaela.wedig@reiki-fit.de
END:VEVENT
BEGIN:VEVENT
DTSTART;TZID=Europe/Berlin:20260829T090000
DTEND;TZID=Europe/Berlin:20260829T200000
DTSTAMP:20260423T162617
CREATED:20240809T163051Z
LAST-MODIFIED:20250914T165127Z
UID:767-1787994000-1788033600@reiki-fit.de
SUMMARY:Reiki-Grad 2
DESCRIPTION:Reiki-Grad 2 – Seminar\nNachdem Sie die Reiki-Energie des 1. Grades einige Zeit für sich genutzt haben\, sind Sie vielleicht bereit\, den Reiki-Grad 2 zu erwerben. \nDie Reiki-Kraft wird durch den Reiki-Grad 2 noch verstärkt und vertieft. \nSie erhalten die Einweihung in drei Reiki-Symbole mit deren Hilfe Sie die Universelle Lebensenergie noch wirkungsvoller fließen lassen können. Die drei Reiki-Symbole des 2. Grades ermöglichen unter anderem die Fernheilung (unabhängig von Zeit und Raum)\, die Mentalheilung und die Energieverstärkung.\nSie bekommen je eine Einstimmung in die oben erwähnten drei Reiki-Symbole. \nZum Abschluss des Seminars erhalten Sie eine Mappe mit Unterrichtsmaterial zur Vertiefung Ihres Wissens\, ein Teilnahmezertifikat und eine Urkunde. \nDauer je nach Teilnehmerzahl (maximal 4 Personen): 10 – 12 Stunden\nSeminargebühr: 250\,00 Euro \nWeitere Informationen: Reiki-Grad 2 \nAnmeldung:\nTel.: 07571 14922 oder Handy: 01520 9169319\nE-Mail: michaela.wedig (at) reiki-fit.de\noder über das Anmelde-Formular
URL:https://reiki-fit.de/termine/reiki-grad-2/
LOCATION:Energetische Heilpraxis Reiki-Fit\, Lerchenweg 2\, Inzigkofen-Vilsingen\, Baden-Württemberg\, 72514\, Deutschland
CATEGORIES:Termine Reiki-Grad 2,Veranstaltungen Energetische Heilpraxis Reiki-Fit
ATTACH;FMTTYPE=image/png:https://reiki-fit.de/wp-content/uploads/2024/08/Reiki-Grad-2-Energetische-Heilpraxis-Reiki-Fit-2.png
ORGANIZER;CN="Michaela Wedig":MAILTO:michaela.wedig@reiki-fit.de
END:VEVENT
END:VCALENDAR